BEGIN:VCALENDAR
VERSION:2.0
PRODID:-//The Morris Federation - ECPv6.15.20//NONSGML v1.0//EN
CALSCALE:GREGORIAN
METHOD:PUBLISH
X-WR-CALNAME:The Morris Federation
X-ORIGINAL-URL:https://www.morrisfed.org.uk
X-WR-CALDESC:Events for The Morris Federation
REFRESH-INTERVAL;VALUE=DURATION:PT1H
X-Robots-Tag:noindex
X-PUBLISHED-TTL:PT1H
BEGIN:VTIMEZONE
TZID:Europe/London
BEGIN:DAYLIGHT
TZOFFSETFROM:+0000
TZOFFSETTO:+0100
TZNAME:BST
DTSTART:20150329T010000
END:DAYLIGHT
BEGIN:STANDARD
TZOFFSETFROM:+0100
TZOFFSETTO:+0000
TZNAME:GMT
DTSTART:20151025T010000
END:STANDARD
BEGIN:DAYLIGHT
TZOFFSETFROM:+0000
TZOFFSETTO:+0100
TZNAME:BST
DTSTART:20160327T010000
END:DAYLIGHT
BEGIN:STANDARD
TZOFFSETFROM:+0100
TZOFFSETTO:+0000
TZNAME:GMT
DTSTART:20161030T010000
END:STANDARD
BEGIN:DAYLIGHT
TZOFFSETFROM:+0000
TZOFFSETTO:+0100
TZNAME:BST
DTSTART:20170326T010000
END:DAYLIGHT
BEGIN:STANDARD
TZOFFSETFROM:+0100
TZOFFSETTO:+0000
TZNAME:GMT
DTSTART:20171029T010000
END:STANDARD
END:VTIMEZONE
BEGIN:VEVENT
DTSTART;VALUE=DATE:20160924
DTEND;VALUE=DATE:20160925
DTSTAMP:20260420T060057
CREATED:20160525T161254Z
LAST-MODIFIED:20200225T161147Z
UID:325-1474675200-1474761599@www.morrisfed.org.uk
SUMMARY:Morris Federation Day of Dance and AGM 2016
DESCRIPTION:The Morris Federation and Mortimer’s Morris extend a warm welcome to all members of The Morris Federation to join us in a day of dance in Nottingham on Saturday 24 September 2016\, followed by The Morris Federation AGM at 4.30pm (4pm sign-in) at the Canalhouse. \nOur base for the day will be the function room above the Canalhouse\, 48-52 Canal St\, Nottingham\, NG1 7EH; telephone 0115 955 5060. We will have the function room for the whole day and this will be where you need to register in the morning (please aim to arrive between 09.30 and 10.00)\, and will be the venue for the AGM in the afternoon. The function room is wheelchair-accessible via a lift. \nAll dance spots are close to the city centre and within easy walking distance from the Canalhouse and from each other. Mortimer’s Morris stewards will show you the way. \nThere will be a lunch break in the schedule and sides can make use of one of the many eating establishments in the city centre. \nThere will be a ceilidh in the evening (at the same venue) with the well-known ‘Peeping Tom Ceilidh Band’\, with Martyn Harvey as caller; a chance to wind down and enjoy good company. Places at the ceilidh are strictly limited and will be sold on a first come first served basis. \nThe Canalhouse is a canalside pub in a former Fellows Morton and Clayton canal warehouse dating from 1894 (with a canal arm actually entering the bar area). It specialises in real ales and ciders\, as well as stocking over 250 world beers. Food is available and the pub have indicated that they would not be averse to music sessions in the bar. The pub is less than a quarter of a mile from Nottingham railway station and from the Station Street tram stop. Note that there is no car parking at the pub. \nPlease download the programme and application form for the day of dance: AGM and day of dance 2016. \nPlease note that applications to the day of dance are now closed\, but all members are still welcome to come and watch the dancing and to join us at the AGM.
URL:https://www.morrisfed.org.uk/event/mf-day-of-dance-and-agm-2016/
LOCATION:Nottingham\, Nottingham\, United Kingdom
CATEGORIES:Morris Federation
ATTACH;FMTTYPE=image/jpeg:https://www.morrisfed.org.uk/wp-content/uploads/2016/05/20130525-Mortimers-Morris-Chippenham-Folk-Festival.jpg
END:VEVENT
BEGIN:VEVENT
DTSTART;VALUE=DATE:20160423
DTEND;VALUE=DATE:20160424
DTSTAMP:20260420T060057
CREATED:20160525T160000Z
LAST-MODIFIED:20220628T215841Z
UID:319-1461369600-1461455999@www.morrisfed.org.uk
SUMMARY:Joint Morris Organisations' Day of Dance 2016
DESCRIPTION:The JMO Day of Dance is a collaborative event organised in turn by one of the three morris organisations in the UK – The Morris Federation\, The Morris Ring\, and Open Morris. \nEach year the JMO Day of Dance is held in a different location. The three organisations rotate the organisation of the event with a member side offering to plan and host the day. \nThe day of dance is a celebration of morris and traditional dancing. Groups from the three organisations\, and performing many different types of traditional dance\, will be present in one location for one day only. This is probably the biggest annual gathering of morris dancers in the world. \nThis year’s host side Minster Strays were formed in 2003 by two couples wishing to dance mixed morris. They dance Cotswold and border morris and have a wide repertoire of dances including many in the border style that they have made up themselves. \nDetails of the day are available from the JMO Day of Dance website (update: this page has now been taken down).
URL:https://www.morrisfed.org.uk/event/jmo-national-day-of-dance-2016/
LOCATION:The City of York\, York\, United Kingdom
CATEGORIES:JMO,Morris Federation
ATTACH;FMTTYPE=image/jpeg:https://www.morrisfed.org.uk/wp-content/uploads/2016/05/DSC_0414-2.jpg
END:VEVENT
END:VCALENDAR