BEGIN:VCALENDAR
VERSION:2.0
PRODID:-//The Morris Federation - ECPv6.15.20//NONSGML v1.0//EN
CALSCALE:GREGORIAN
METHOD:PUBLISH
X-ORIGINAL-URL:https://www.morrisfed.org.uk
X-WR-CALDESC:Events for The Morris Federation
REFRESH-INTERVAL;VALUE=DURATION:PT1H
X-Robots-Tag:noindex
X-PUBLISHED-TTL:PT1H
BEGIN:VTIMEZONE
TZID:Europe/London
BEGIN:DAYLIGHT
TZOFFSETFROM:+0000
TZOFFSETTO:+0100
TZNAME:BST
DTSTART:20230326T010000
END:DAYLIGHT
BEGIN:STANDARD
TZOFFSETFROM:+0100
TZOFFSETTO:+0000
TZNAME:GMT
DTSTART:20231029T010000
END:STANDARD
BEGIN:DAYLIGHT
TZOFFSETFROM:+0000
TZOFFSETTO:+0100
TZNAME:BST
DTSTART:20240331T010000
END:DAYLIGHT
BEGIN:STANDARD
TZOFFSETFROM:+0100
TZOFFSETTO:+0000
TZNAME:GMT
DTSTART:20241027T010000
END:STANDARD
BEGIN:DAYLIGHT
TZOFFSETFROM:+0000
TZOFFSETTO:+0100
TZNAME:BST
DTSTART:20250330T010000
END:DAYLIGHT
BEGIN:STANDARD
TZOFFSETFROM:+0100
TZOFFSETTO:+0000
TZNAME:GMT
DTSTART:20251026T010000
END:STANDARD
END:VTIMEZONE
BEGIN:VEVENT
DTSTART;TZID=Europe/London:20241011T180000
DTEND;TZID=Europe/London:20241013T150000
DTSTAMP:20260420T033514
CREATED:20231222T154317Z
LAST-MODIFIED:20240604T122038Z
UID:33316-1728669600-1728831600@www.morrisfed.org.uk
SUMMARY:Illustrious Order of Fools & Beasts Unconvention 2024 (Birmingham)
DESCRIPTION:An Illustrious Order of Fools & Beasts event.\nOpen to all budding or experienced Fools\, Beasts and Morris Characters from any team from the Morris Federation\, Morris Ring\, Open Morris\, or independent. This year we will be joining in with Jockey Morris‘ Day of Dance. \nOur base will be Barnt Green Scout and Guide Centre\, Blackwell Rd\, Barnt Green\, Birmingham B45 8BT. On Friday night there will be supper\, bar\, music/dance workshop and singing! On Saturday we will be travelling to the centre of Birmingham by train\, so don’t forget your Railcard\, if you have one! (Travel costs are refundable if you wish). Jed Dunn is providing the Feast at the Centre. AGM and workshop on Sunday. \nIndoor camping as usual\, any hardy Fool who wishes to pitch a tent outside is welcome. For those who wish to B&B separately\, the nearest large town is Bromsgrove where there is a Premier Inn and a Travelodge. There is a largeish car park at the Centre\, so there should be enough space for motor homes. \nPrice has been kept at £80; this includes supper\, two breakfasts\, Saturday lunch and Feast. Sunday lunch may well be a small buffet: eat – or take home! \nYours\, Robert Chisman\, Scrivener and Convenor \nClosing date for Applications 27th September 2024. \nBookings Open!  To book a place: Unconvention 2024 application form [PDF].
URL:https://www.morrisfed.org.uk/event/fools-beasts-unconvention-2024/
LOCATION:Birmingham
CATEGORIES:Fools and Beasts
ATTACH;FMTTYPE=image/jpeg:https://www.morrisfed.org.uk/wp-content/uploads/2022/08/Illustrious-Order-of-Fools-and-Beasts-logo.jpg
END:VEVENT
END:VCALENDAR