BEGIN:VCALENDAR
VERSION:2.0
PRODID:-//The Morris Federation - ECPv6.15.20//NONSGML v1.0//EN
CALSCALE:GREGORIAN
METHOD:PUBLISH
X-ORIGINAL-URL:https://www.morrisfed.org.uk
X-WR-CALDESC:Events for The Morris Federation
REFRESH-INTERVAL;VALUE=DURATION:PT1H
X-Robots-Tag:noindex
X-PUBLISHED-TTL:PT1H
BEGIN:VTIMEZONE
TZID:Europe/London
BEGIN:DAYLIGHT
TZOFFSETFROM:+0000
TZOFFSETTO:+0100
TZNAME:BST
DTSTART:20230326T010000
END:DAYLIGHT
BEGIN:STANDARD
TZOFFSETFROM:+0100
TZOFFSETTO:+0000
TZNAME:GMT
DTSTART:20231029T010000
END:STANDARD
BEGIN:DAYLIGHT
TZOFFSETFROM:+0000
TZOFFSETTO:+0100
TZNAME:BST
DTSTART:20240331T010000
END:DAYLIGHT
BEGIN:STANDARD
TZOFFSETFROM:+0100
TZOFFSETTO:+0000
TZNAME:GMT
DTSTART:20241027T010000
END:STANDARD
BEGIN:DAYLIGHT
TZOFFSETFROM:+0000
TZOFFSETTO:+0100
TZNAME:BST
DTSTART:20250330T010000
END:DAYLIGHT
BEGIN:STANDARD
TZOFFSETFROM:+0100
TZOFFSETTO:+0000
TZNAME:GMT
DTSTART:20251026T010000
END:STANDARD
END:VTIMEZONE
BEGIN:VEVENT
DTSTART;TZID=Europe/London:20240412T180000
DTEND;TZID=Europe/London:20240414T150000
DTSTAMP:20260419T133400
CREATED:20230503T124844Z
LAST-MODIFIED:20240311T125429Z
UID:25785-1712944800-1713106800@www.morrisfed.org.uk
SUMMARY:DERT (Dancing England Rapper Tournament) 2024 (Whitby)
DESCRIPTION:DERT (Dancing England Rapper Tournament) 2024 (Whitby)\nA DERT event.\nOpen to all teams from the Morris Federation\, Morris Ring\, Open Morris\, or independent. \nThis year it is being held in Whitby\, North Yorkshire\, hosted by a group of rapper enthusiasts. \nFriday night will be a welcome evening. \nSaturday is the competition day\, finishing with awards and followed by a social evening. \nSunday the winners host a workshop. \nSee website: https://dert.uk/ – click ‘DERTinfo‘ to register by the end of January (but the sooner the better) – or ‘Volunteers‘ to sign up to be a volunteer. \nSee Facebook site: https://www.facebook.com/rappertournament/
URL:https://www.morrisfed.org.uk/event/dert-2024/
LOCATION:Whitby
CATEGORIES:DERT
ATTACH;FMTTYPE=image/jpeg:https://www.morrisfed.org.uk/wp-content/uploads/2023/05/DERT-2024.jpg
END:VEVENT
BEGIN:VEVENT
DTSTART;TZID=Europe/London:20240413T100000
DTEND;TZID=Europe/London:20240413T160000
DTSTAMP:20260419T133400
CREATED:20220505T170431Z
LAST-MODIFIED:20240410T130027Z
UID:11667-1713002400-1713024000@www.morrisfed.org.uk
SUMMARY:Joint Morris Organisations' Day of Dance 2024 (Newark)
DESCRIPTION:Joint Morris Organisations’ Day of Dance 2024 (Newark)\nThe JMO National Day of Dance is a collaborative event organised in turn by one of the three Morris organisations in the UK – The Morris Federation\, The Morris Ring\, and Open Morris. The day of dance is a celebration of Morris and traditional dancing held annually at a different location around the UK. \nIn 2024 the day of dance is on Saturday 13th April 2024 in Newark-on Trent\, Nottinghamshire\, hosted by Trentside Holmes Morris on behalf of The Morris Federation\, and supported by Lincoln & Micklebarrow Morris Men (The Morris Ring) and Rattlejag Morris. \nDetails of who is dancing where and when and a map of the locations: \n\nNewark JMO Dance Programme [PDF] – who is performing when and where\nNewark JMO Dance Spots [PDF] – a list of the dance locations\nNewark JMO Map [PDF] – map of the dance locations\n\nThere are 36 sides booked to attend. For more information\, please email: newarkjmo2024@gmail.com \n\n\n\nName of side\nDance style(s)\nCounty\nOrg\nWeb site\nSide hashtag\n\n\nAdlington Morris Men\nCotswold\nStockport\, Greater Manchester\nMF\, MR\nhttps://adlingtonmorrismen.com/\n\n\n\nAlford Morris\nCotswold / Border\nAlford\, Lincolnshire\nOM\nFacebook page for Alford Morris\n\n\n\nAnstey Royale Chalfont\nNorth West\nQuorn\, Leicestershire\nMF\nFacebook page for Anstey Royale Chalfont\n\n\n\nBakanalia Border Morris\nBorder\nLeicester\, Leicestershire\nMF\nhttps://www.bakanalia.co.uk/\n#BakanaliaBorderMorris\n\n\nBedcote Moris\nCotswold\nStourbridge\, West Midlands\nOM\nFacebook page for Bedcote Morris\n\n\n\nBeggars’ Oak Clog Dancers\nNorth West\nRugeley\,  Staffordshire\nMF\nhttps://www.beggars-oak.org.uk/\n\n\n\nBlack Annis\nCotswold\nLeicester\, Leicestershire\nMF\nhttps://blackannismorris.org/\n\n\n\nBlack Adder Morris\nNorth West\nBirmingham\, West Midlands\nMF\nhttps://blackaddermorris.co.uk/\n\n\n\nBourne Borderers\nBorder\nBourne\, Lincolnshire\nMF\nhttps://www.bourneborderers.co.uk/\n\n\n\nChip Off The Old\nCotswold\nDerby\, Derbyshire\nMF\nhttps://www.chipofftheold.org.uk/\n#ChipOffTheOld\n\n\nCrosskey Clog\nNorth West and Clog Step\nNewborough\, Cambridgeshire\nOM\nhttps://crosskeyclog.com/\n\n\n\nDukes Dandy\nClog Step\nRetford\, Nottinghamshire\nMF\nFacebook page for Dukes Dandy\n#DukesDandy\n\n\nFenstanton Morris\nCotswold\nFenstanton\, Cambridgeshire\nOM\nFacebook page for Fenstanton Morris\n\n\n\nGreenwood Step Clog\nClog Step\nNottingham\, Nottinghamshire\nMF\nhttp://www.chezfred.org.uk/gwd/\n\n\n\nGrimsby Morris\nCotswold\nGrimsby\, Lincolnshire\nMR\nhttps://www.grimsbymorris.org.uk/\n\n\n\nHemlock Morris\nCotswold & Border\nBedford\, Bedfordshire\nMF\nhttps://www.hemlockmorris.com/\n#HemlockMorris\n\n\nIllustrious Order of Fools and Beasts\nFools & Beasts\nVarious\nMF\, MR\, OM\nhttps://www.foolsandbeasts.org/\n\n\n\nJockey Morris\nCotswold\nBirmingham\, West Midlands\nMR\nhttp://www.jockeymorris.org.uk/\n\n\n\nKnights of King Ina (KOKI)\nCotswold Jigs\nLangport\, Somerset\, with members from across UK and overseas\nMF\nhttps://kingina.uk/\n#KnightsofKingIna\n\n\nLeicester Morris\nCotswold\nLeicester\, Leicestershire\nMR\nhttps://leicestermorrismen.co.uk/\n\n\n\nLetchworth Morris\nCotswold\nLetchworth\, Hertfordshire\nMR\nhttps://www.letchworthmorris.org.uk/\n\n\n\nLincoln & Micklebarrow\nCotswold\nNewark\, Nottinghamshire\nMR\nFacebook page for Lincoln & Micklebarrow\n\n\n\nMaids of Clifton\nNorth West\nNottingham\, Nottinghamshire\nMF\nFacebook page for The Maids of Clifton\n\n\n\nMakara Morris\nBorder\nnr Driffield\, Yorkshire\nMF\nhttps://wansford.wordpress.com/\n\n\n\nMilltown Cloggies\nNorth West\nDukinfield\, Greater Manchester\nMF\nFacebook page for Milltown Cloggies\n\n\n\nMinster Strays\nCotswold\nYork\, Yorkshire\nMF\nhttps://minsterstrays.weebly.com/\n#MinsterStrays\n\n\nNew St George Morris\nCotswold\nMelton Mowbray\, Leicestershire\nMF\nFacebook page for New St George Morris\n\n\n\nRagged Oak\nBorder\nBromsgrove\, West Midlands\nOM\nFacebook page for Ragged Oak\n\n\n\nRattlejag Morris\nPlough Morris\nRetford\, Nottinghamshire\nMF\nhttps://www.rattlejagmorris.org.uk/\n\n\n\nRutland Morris\nCotswold\nOakham\, Rutland\nMR\nhttps://www.rutlandmorris.org.uk/\n\n\n\nSullivan’s Sword\nLongsword\nNottingham\, Nottinghamshire\nOM\nhttps://sullivanssword.co.uk/\n\n\n\nSutton Masque\nBorder\nEly\, Cambridgeshire\nMF\nhttps://suttonmasque.wordpress.com/\n\n\n\nT’Owd Man Border Morris\nBorder\nMatlock\, Derbyshire\nMF\nhttps://www.towdmanmorris.uk/\n#towdmanmorris\n\n\nTrentside Holmes\nCotswold\nSutton on Trent\, Nottinghamshire\nMF\nFacebook page for Trentside Holmes\n\n\n\nWay of the Wyrd\nBorder\nLoughborough\, Leicestershire\nMF\nhttps://www.wayofthewyrd.co.uk/\n\n\n\nWharfedale Wayzgoose\nBorder\nOtley\, West Yorkshire\nOM\nhttps://wharfedale-wayzgoose.co.uk/\n\n\n\n\nOrg Information:\nMF – The Morris Federation\nOM – Open Morris\nMR – Morris Ring
URL:https://www.morrisfed.org.uk/event/jmo-day-of-dance-2024/
LOCATION:Newark
CATEGORIES:JMO,Morris Federation
ATTACH;FMTTYPE=image/jpeg:https://www.morrisfed.org.uk/wp-content/uploads/2022/06/Trentside-Holmes-in-Newark-2019-cropped.jpg
END:VEVENT
END:VCALENDAR