BEGIN:VCALENDAR
VERSION:2.0
PRODID:-//The Morris Federation - ECPv6.15.20//NONSGML v1.0//EN
CALSCALE:GREGORIAN
METHOD:PUBLISH
X-WR-CALNAME:The Morris Federation
X-ORIGINAL-URL:https://www.morrisfed.org.uk
X-WR-CALDESC:Events for The Morris Federation
REFRESH-INTERVAL;VALUE=DURATION:PT1H
X-Robots-Tag:noindex
X-PUBLISHED-TTL:PT1H
BEGIN:VTIMEZONE
TZID:Europe/London
BEGIN:DAYLIGHT
TZOFFSETFROM:+0000
TZOFFSETTO:+0100
TZNAME:BST
DTSTART:20210328T010000
END:DAYLIGHT
BEGIN:STANDARD
TZOFFSETFROM:+0100
TZOFFSETTO:+0000
TZNAME:GMT
DTSTART:20211031T010000
END:STANDARD
BEGIN:DAYLIGHT
TZOFFSETFROM:+0000
TZOFFSETTO:+0100
TZNAME:BST
DTSTART:20220327T010000
END:DAYLIGHT
BEGIN:STANDARD
TZOFFSETFROM:+0100
TZOFFSETTO:+0000
TZNAME:GMT
DTSTART:20221030T010000
END:STANDARD
BEGIN:DAYLIGHT
TZOFFSETFROM:+0000
TZOFFSETTO:+0100
TZNAME:BST
DTSTART:20230326T010000
END:DAYLIGHT
BEGIN:STANDARD
TZOFFSETFROM:+0100
TZOFFSETTO:+0000
TZNAME:GMT
DTSTART:20231029T010000
END:STANDARD
END:VTIMEZONE
BEGIN:VEVENT
DTSTART;TZID=Europe/London:20220327T170000
DTEND;TZID=Europe/London:20220327T183000
DTSTAMP:20260422T102513
CREATED:20220302T151308Z
LAST-MODIFIED:20220329T191446Z
UID:10911-1648400400-1648405800@www.morrisfed.org.uk
SUMMARY:Talk - "Sticks\, Hankies\, Baldricks & Bells - Dances of Catalunya" - Stephen Rowley (LIVE on Zoom)
DESCRIPTION:Talk – “Sticks\, Hankies\, Baldricks & Bells – Dances of Catalunya” – Stephen Rowley\nSpain has a vibrant traditional dance culture\, with many distinctive regional styles.  Catalunya is notable for its ‘Balls Populars’ – Popular Dances.   There are aspects of these dances which we as morris dancers can identify with\, for instance costume (whites\, baldricks\, bell pads)\, columnar form\, pipe and tabor music\, sticks and handkerchiefs.  In this talk Stephen Rowley takes us to the Fiesta to find out more. \nVisca Balls Populars!  Visca Catalunya! \nTalk for approx 50 mins then time for Q&A \nYour host\nStephen Rowley founded the Mummers Symposium in 2011 – an annual meeting of mummers\, folklorists and academic researchers from around the world.  He is also a musician and dancer\, founder of the International Mummers Festival\, the International Pipe and Tabor Festival\, and The Taborers Society.  He has performed and taught widely in Europe\, USA\, Russia and Australia.  He has a particular interest in the festival procession dances of the Iberian peninsular and their music. \nTo register\nPlease complete this online form: Register for the Talk -“Sticks\, Hankies\, Baldricks & Bells – Dances of Catalunya”; you will receive a confirmation email immediately (check your spam/junk/promotions folder!).  We will send you a Zoom link a couple of days before the event.  Open to all – you don’t have to be a member of a team in The Morris Federation. \nOptional Donations\nIf you enjoy this event\, then it would be wonderful if you could send a donation\, small or large\, to Bowel Cancer West via: https://www.justgiving.com/fundraising/stephen-rowley3
URL:https://www.morrisfed.org.uk/event/dances-of-catalunya/
LOCATION:Online over Zoom
CATEGORIES:Morris Federation,Workshop
ATTACH;FMTTYPE=image/jpeg:https://www.morrisfed.org.uk/wp-content/uploads/2022/03/Catalan-Dancers-by-Stephen-Rowley-scaled.jpg
END:VEVENT
END:VCALENDAR